BEGIN:VCALENDAR
VERSION:2.0
PRODID:-//wp-events-plugin.com//7.2.3.1//EN
TZID:Pacific/Honolulu
X-WR-TIMEZONE:Pacific/Honolulu
BEGIN:VEVENT
UID:9@papakolea.org
DTSTART;TZID=Pacific/Honolulu:20170125T183000
DTEND;TZID=Pacific/Honolulu:20170125T190000
DTSTAMP:20170122T041900Z
URL:https://www.papakolea.org/events/wahi-pana-papakolea/
SUMMARY:Wahi Pana Papakōlea -  - 25 Jan 17 18:30
DESCRIPTION:\n\nDon't miss "Wahi Pana Papakōlea"\, a television special p
 roduced by Partners in Development Foundation.  "Wahi Pana Papakōlea" fi
 rst aired on Wednesday\, January 19th at 6:30 pm\, on KGMB (Channel 5). 
  It will air again on Wednesday\, January 25th\, at 6:30 pm\, on KHNL (C
 hannel 3).\n\nWe send a special mahalo to Hawai'i Tourism Authority for fu
 nding the project\, Partners in Development Foundation for selecting our 
 community\, the late Don Mapes and Melissa Mapes for video production\, a
 nd the individual talent of each community member that contributed to the
  success of this project.  Ha'aheo 'O Papakōlea!
END:VEVENT
BEGIN:VTIMEZONE
TZID:Pacific/Honolulu
X-LIC-LOCATION:Pacific/Honolulu
BEGIN:STANDARD
DTSTART:20160126T183000
TZOFFSETFROM:-1000
TZOFFSETTO:-1000
TZNAME:HST
END:STANDARD
END:VTIMEZONE
END:VCALENDAR