BEGIN:VCALENDAR
VERSION:2.0
PRODID:-//wp-events-plugin.com//7.2.3.1//EN
TZID:Pacific/Honolulu
X-WR-TIMEZONE:Pacific/Honolulu
BEGIN:VEVENT
UID:11@papakolea.org
DTSTART;TZID=Pacific/Honolulu:20170513T090000
DTEND;TZID=Pacific/Honolulu:20170513T103000
DTSTAMP:20170503T204631Z
URL:https://www.papakolea.org/events/papakolea-community-meeting-2/
SUMMARY:Papakōlea Community Meeting - Papakōlea Community Park Basketball
  Court - 13 May 17 09:00
DESCRIPTION:Join us at the May 13\, 2016 the Papakōlea Community Park Ba
 sketball Court to receive updates and information on current events and p
 rogramming available to Papakōlea.  Meetings are scheduled to begin at 
 9 am and end at 10:30 am.  Topics of discussion are organized into thre
 e categories: Special Events\, Programs and Information.  If you are inte
 rested in any of the topics below\, join us!\n\nSpecial Events\nPapakōlea
  Float in King Kamehameha Day Floral Parade • June 10\, 2017\nPapakōlea
  Pā‘ina • August 12\, 2017\n\nPrograms\nPapakōlea’s Firefighter Ex
 am Training Class #2 • June 3\, 2017 - July 29\, 2017\nHula for Hyperten
 sion (KaHolo Study) • June 2017\nKupua‘e - Papakōlea Summer Youth Pro
 gram • July 3 - 28\, 2017\nPapakōlea Capacity Building Program • July
  1\, 2017 - June 30\, 2018\nPapakōlea Entrepreneurship Series • July 1\
 , 2017 - December 31\, 2017\nPuōwaina Land Restoration Project • July 1
 \, 2017 - June 30\, 2018\n\nInformation\nFree Home Efficiency Fixtures by 
 Pono Home\nHonolulu Habitat for Humanity\nIntroduction to Ke Kula Kaiapuni
  ‘o Ānuenue\nPunchbowl Administration Building Update\n\nFor more infor
 mation\, contact PCDC Executive Director\, Ms. Lilia Kapuniai\, at 808.520
 .8998 or lilia@papakolea.org  Mahalo.
LOCATION:Papakōlea Community Park Basketball Court\, 2150 Tantalus Drive\,
  Honolulu\, HI\, 96813\, United States
GEO:21.316879;-157.840511
X-APPLE-STRUCTURED-LOCATION;VALUE=URI;X-ADDRESS=2150 Tantalus Drive\, Honol
 ulu\, HI\, 96813\, United States;X-APPLE-RADIUS=100;X-TITLE=Papakōlea Com
 munity Park Basketball Court:geo:21.316879,-157.840511
END:VEVENT
BEGIN:VTIMEZONE
TZID:Pacific/Honolulu
X-LIC-LOCATION:Pacific/Honolulu
BEGIN:STANDARD
DTSTART:20160513T090000
TZOFFSETFROM:-1000
TZOFFSETTO:-1000
TZNAME:HST
END:STANDARD
END:VTIMEZONE
END:VCALENDAR