BEGIN:VCALENDAR
VERSION:2.0
PRODID:-//wp-events-plugin.com//7.2.3.1//EN
TZID:Pacific/Honolulu
X-WR-TIMEZONE:Pacific/Honolulu
BEGIN:VEVENT
UID:8@papakolea.org
DTSTART;TZID=Pacific/Honolulu:20170204T100000
DTEND;TZID=Pacific/Honolulu:20170204T123000
DTSTAMP:20170122T041117Z
URL:https://www.papakolea.org/events/college-and-scholarship-fair-feb-4th/
SUMMARY:College and Scholarship Fair - Feb. 4th - Papakōlea Community Park
  - 4 Feb 17 10:00
DESCRIPTION:This fair is designed to provide information on University of 
 Hawai'i Degree programs and support services for Native Hawaiian students
  at Honolulu Community College\, Kapi'olani Community College\, and the U
 niversity of Hawai'i at Mānoa.  A hands-on workshop that will help famil
 ies complete a FASFA and apply for scholarships will be conducted too!\n\
 nClick here to REGISTER.\n\nParticipants can expect light refreshments\, r
 affle prizes and a ton of information material!  For more information\, c
 ontact akanalk@hawaii.edu.\n\nCollaboration by: Pu'uhonua Hale for Native 
 Hawaiian Student support with Native Hawaiian Student Services at Universi
 ty of Hawai'i at Mānoa\, Kula No Na Po'e Hawai'i and Papakōlea Community
  Development Corporation.  Funded in part by a SEED IDEAS grant.
LOCATION:Papakōlea Community Park\, 2150 Tantalus Drive\, Honolulu\, HI\, 
 96813\, United States
GEO:21.3168413;-157.8405444
X-APPLE-STRUCTURED-LOCATION;VALUE=URI;X-ADDRESS=2150 Tantalus Drive\, Honol
 ulu\, HI\, 96813\, United States;X-APPLE-RADIUS=100;X-TITLE=Papakōlea Com
 munity Park:geo:21.3168413,-157.8405444
END:VEVENT
BEGIN:VTIMEZONE
TZID:Pacific/Honolulu
X-LIC-LOCATION:Pacific/Honolulu
BEGIN:STANDARD
DTSTART:20160205T100000
TZOFFSETFROM:-1000
TZOFFSETTO:-1000
TZNAME:HST
END:STANDARD
END:VTIMEZONE
END:VCALENDAR